BEGIN:VCALENDAR
VERSION:2.0
PRODID:-//Benthel Asia School of Technology - ECPv5.1.2//NONSGML v1.0//EN
CALSCALE:GREGORIAN
METHOD:PUBLISH
X-WR-CALNAME:Benthel Asia School of Technology
X-ORIGINAL-URL:http://benthelasia.edu.ph
X-WR-CALDESC:Events for Benthel Asia School of Technology
BEGIN:VTIMEZONE
TZID:UTC
BEGIN:STANDARD
TZOFFSETFROM:+0000
TZOFFSETTO:+0000
TZNAME:UTC
DTSTART:20240101T000000
END:STANDARD
END:VTIMEZONE
BEGIN:VEVENT
DTSTART;TZID=UTC:20240531T080000
DTEND;TZID=UTC:20240531T170000
DTSTAMP:20260424T192357
CREATED:20240502T011048Z
LAST-MODIFIED:20240502T011048Z
UID:7506-1717142400-1717174800@benthelasia.edu.ph
SUMMARY:18th Completion and Graduation Ceremonies
DESCRIPTION:
URL:http://benthelasia.edu.ph/event/18th-completion-and-graduation-ceremonies/
END:VEVENT
END:VCALENDAR