BEGIN:VCALENDAR
VERSION:2.0
PRODID:-//Benthel Asia School of Technology - ECPv5.1.2//NONSGML v1.0//EN
CALSCALE:GREGORIAN
METHOD:PUBLISH
X-WR-CALNAME:Benthel Asia School of Technology
X-ORIGINAL-URL:http://benthelasia.edu.ph
X-WR-CALDESC:Events for Benthel Asia School of Technology
BEGIN:VTIMEZONE
TZID:UTC
BEGIN:STANDARD
TZOFFSETFROM:+0000
TZOFFSETTO:+0000
TZNAME:UTC
DTSTART:20250101T000000
END:STANDARD
END:VTIMEZONE
BEGIN:VEVENT
DTSTART;VALUE=DATE:20250416
DTEND;VALUE=DATE:20250417
DTSTAMP:20260424T125608
CREATED:20250123T075903Z
LAST-MODIFIED:20250123T075903Z
UID:7920-1744761600-1744847999@benthelasia.edu.ph
SUMMARY:19th Completion and Graduation Ceremonies
DESCRIPTION:
URL:http://benthelasia.edu.ph/event/19th-completion-and-graduation-ceremonies/
END:VEVENT
END:VCALENDAR