BEGIN:VCALENDAR
VERSION:2.0
PRODID:-//Benthel Asia School of Technology - ECPv5.1.2//NONSGML v1.0//EN
CALSCALE:GREGORIAN
METHOD:PUBLISH
X-WR-CALNAME:Benthel Asia School of Technology
X-ORIGINAL-URL:http://benthelasia.edu.ph
X-WR-CALDESC:Events for Benthel Asia School of Technology
BEGIN:VTIMEZONE
TZID:UTC
BEGIN:STANDARD
TZOFFSETFROM:+0000
TZOFFSETTO:+0000
TZNAME:UTC
DTSTART:20250101T000000
END:STANDARD
END:VTIMEZONE
BEGIN:VEVENT
DTSTART;VALUE=DATE:20251006
DTEND;VALUE=DATE:20251007
DTSTAMP:20260424T012621
CREATED:20250808T070318Z
LAST-MODIFIED:20250808T070318Z
UID:8249-1759708800-1759795199@benthelasia.edu.ph
SUMMARY:BAST Teachers’ Day Celebration
DESCRIPTION:
URL:http://benthelasia.edu.ph/event/bast-teachers-day-celebration/
END:VEVENT
END:VCALENDAR