BEGIN:VCALENDAR
VERSION:2.0
PRODID:-//Benthel Asia School of Technology - ECPv5.1.2//NONSGML v1.0//EN
CALSCALE:GREGORIAN
METHOD:PUBLISH
X-WR-CALNAME:Benthel Asia School of Technology
X-ORIGINAL-URL:http://benthelasia.edu.ph
X-WR-CALDESC:Events for Benthel Asia School of Technology
BEGIN:VTIMEZONE
TZID:UTC
BEGIN:STANDARD
TZOFFSETFROM:+0000
TZOFFSETTO:+0000
TZNAME:UTC
DTSTART:20250101T000000
END:STANDARD
END:VTIMEZONE
BEGIN:VEVENT
DTSTART;VALUE=DATE:20250731
DTEND;VALUE=DATE:20250801
DTSTAMP:20260424T043237
CREATED:20250807T072434Z
LAST-MODIFIED:20250807T072434Z
UID:8192-1753920000-1754006399@benthelasia.edu.ph
SUMMARY:Culminating Activity for the Nutrition Month (Basak Campus)
DESCRIPTION:
URL:http://benthelasia.edu.ph/event/culminating-activity-for-the-nutrition-month-basak-campus/
END:VEVENT
END:VCALENDAR