BEGIN:VCALENDAR
VERSION:2.0
PRODID:-//Benthel Asia School of Technology - ECPv5.1.2//NONSGML v1.0//EN
CALSCALE:GREGORIAN
METHOD:PUBLISH
X-WR-CALNAME:Benthel Asia School of Technology
X-ORIGINAL-URL:http://benthelasia.edu.ph
X-WR-CALDESC:Events for Benthel Asia School of Technology
BEGIN:VTIMEZONE
TZID:UTC
BEGIN:STANDARD
TZOFFSETFROM:+0000
TZOFFSETTO:+0000
TZNAME:UTC
DTSTART:20250101T000000
END:STANDARD
END:VTIMEZONE
BEGIN:VEVENT
DTSTART;VALUE=DATE:20250801
DTEND;VALUE=DATE:20250802
DTSTAMP:20260424T043617
CREATED:20250807T073702Z
LAST-MODIFIED:20250807T073707Z
UID:8194-1754006400-1754092799@benthelasia.edu.ph
SUMMARY:First Friday Mass
DESCRIPTION:Mass Sponsor:\nElementary\nDepartment \n
URL:http://benthelasia.edu.ph/event/first-friday-mass-17/
END:VEVENT
END:VCALENDAR