BEGIN:VCALENDAR
VERSION:2.0
PRODID:-//Benthel Asia School of Technology - ECPv5.1.2//NONSGML v1.0//EN
CALSCALE:GREGORIAN
METHOD:PUBLISH
X-WR-CALNAME:Benthel Asia School of Technology
X-ORIGINAL-URL:http://benthelasia.edu.ph
X-WR-CALDESC:Events for Benthel Asia School of Technology
BEGIN:VTIMEZONE
TZID:UTC
BEGIN:STANDARD
TZOFFSETFROM:+0000
TZOFFSETTO:+0000
TZNAME:UTC
DTSTART:20250101T000000
END:STANDARD
END:VTIMEZONE
BEGIN:VEVENT
DTSTART;VALUE=DATE:20251107
DTEND;VALUE=DATE:20251108
DTSTAMP:20260424T000603
CREATED:20250808T071414Z
LAST-MODIFIED:20250808T071414Z
UID:8267-1762473600-1762559999@benthelasia.edu.ph
SUMMARY:First Friday Mass
DESCRIPTION:Mass Sponsor:\nSenior High School\nDepartment \n
URL:http://benthelasia.edu.ph/event/first-friday-mass-19/
END:VEVENT
END:VCALENDAR