BEGIN:VCALENDAR
VERSION:2.0
PRODID:-//Benthel Asia School of Technology - ECPv5.1.2//NONSGML v1.0//EN
CALSCALE:GREGORIAN
METHOD:PUBLISH
X-WR-CALNAME:Benthel Asia School of Technology
X-ORIGINAL-URL:http://benthelasia.edu.ph
X-WR-CALDESC:Events for Benthel Asia School of Technology
BEGIN:VTIMEZONE
TZID:UTC
BEGIN:STANDARD
TZOFFSETFROM:+0000
TZOFFSETTO:+0000
TZNAME:UTC
DTSTART:20260101T000000
END:STANDARD
END:VTIMEZONE
BEGIN:VEVENT
DTSTART;VALUE=DATE:20260302
DTEND;VALUE=DATE:20260303
DTSTAMP:20260423T190704
CREATED:20250811T081735Z
LAST-MODIFIED:20250811T081735Z
UID:8338-1772409600-1772495999@benthelasia.edu.ph
SUMMARY:Fourth and Final Deliberation of Grades
DESCRIPTION:
URL:http://benthelasia.edu.ph/event/fourth-and-final-deliberation-of-grades-2/
END:VEVENT
END:VCALENDAR