BEGIN:VCALENDAR
VERSION:2.0
PRODID:-//Benthel Asia School of Technology - ECPv5.1.2//NONSGML v1.0//EN
CALSCALE:GREGORIAN
METHOD:PUBLISH
X-WR-CALNAME:Benthel Asia School of Technology
X-ORIGINAL-URL:http://benthelasia.edu.ph
X-WR-CALDESC:Events for Benthel Asia School of Technology
BEGIN:VTIMEZONE
TZID:UTC
BEGIN:STANDARD
TZOFFSETFROM:+0000
TZOFFSETTO:+0000
TZNAME:UTC
DTSTART:20260101T000000
END:STANDARD
END:VTIMEZONE
BEGIN:VEVENT
DTSTART;VALUE=DATE:20260203
DTEND;VALUE=DATE:20260204
DTSTAMP:20260423T191912
CREATED:20260120T011841Z
LAST-MODIFIED:20260205T060631Z
UID:8450-1770076800-1770163199@benthelasia.edu.ph
SUMMARY:Haircut and Nail cut Inspection (POD)
DESCRIPTION:
URL:http://benthelasia.edu.ph/event/haircut-and-nail-cut-inspection-pod-2/
END:VEVENT
END:VCALENDAR