BEGIN:VCALENDAR
VERSION:2.0
PRODID:-//Benthel Asia School of Technology - ECPv5.1.2//NONSGML v1.0//EN
CALSCALE:GREGORIAN
METHOD:PUBLISH
X-WR-CALNAME:Benthel Asia School of Technology
X-ORIGINAL-URL:http://benthelasia.edu.ph
X-WR-CALDESC:Events for Benthel Asia School of Technology
BEGIN:VTIMEZONE
TZID:UTC
BEGIN:STANDARD
TZOFFSETFROM:+0000
TZOFFSETTO:+0000
TZNAME:UTC
DTSTART:20250101T000000
END:STANDARD
END:VTIMEZONE
BEGIN:VEVENT
DTSTART;VALUE=DATE:20250906
DTEND;VALUE=DATE:20250907
DTSTAMP:20260424T025808
CREATED:20250808T065423Z
LAST-MODIFIED:20250808T065423Z
UID:8232-1757116800-1757203199@benthelasia.edu.ph
SUMMARY:INSET via Zoom
DESCRIPTION:
URL:http://benthelasia.edu.ph/event/inset-via-zoom-5/
END:VEVENT
END:VCALENDAR