BEGIN:VCALENDAR
VERSION:2.0
PRODID:-//Benthel Asia School of Technology - ECPv5.1.2//NONSGML v1.0//EN
CALSCALE:GREGORIAN
METHOD:PUBLISH
X-WR-CALNAME:Benthel Asia School of Technology
X-ORIGINAL-URL:http://benthelasia.edu.ph
X-WR-CALDESC:Events for Benthel Asia School of Technology
BEGIN:VTIMEZONE
TZID:UTC
BEGIN:STANDARD
TZOFFSETFROM:+0000
TZOFFSETTO:+0000
TZNAME:UTC
DTSTART:20260101T000000
END:STANDARD
END:VTIMEZONE
BEGIN:VEVENT
DTSTART;TZID=UTC:20260309T090000
DTEND;TZID=UTC:20260309T120000
DTSTAMP:20260423T191912
CREATED:20260120T020304Z
LAST-MODIFIED:20260120T020717Z
UID:8470-1773046800-1773057600@benthelasia.edu.ph
SUMMARY:Morning: 4th Quarter Parent Enrichment via Zoom
DESCRIPTION:
URL:http://benthelasia.edu.ph/event/morning-4th-quarter-parent-enrichment-via-zoom/
END:VEVENT
END:VCALENDAR