BEGIN:VCALENDAR
VERSION:2.0
PRODID:-//Benthel Asia School of Technology - ECPv5.1.2//NONSGML v1.0//EN
CALSCALE:GREGORIAN
METHOD:PUBLISH
X-WR-CALNAME:Benthel Asia School of Technology
X-ORIGINAL-URL:http://benthelasia.edu.ph
X-WR-CALDESC:Events for Benthel Asia School of Technology
BEGIN:VTIMEZONE
TZID:UTC
BEGIN:STANDARD
TZOFFSETFROM:+0000
TZOFFSETTO:+0000
TZNAME:UTC
DTSTART:20250101T000000
END:STANDARD
END:VTIMEZONE
BEGIN:VEVENT
DTSTART;TZID=UTC:20250616T080000
DTEND;TZID=UTC:20250616T170000
DTSTAMP:20260424T075034
CREATED:20250506T063948Z
LAST-MODIFIED:20250807T064923Z
UID:8070-1750060800-1750093200@benthelasia.edu.ph
SUMMARY:No work swapped for the June 17  Holiday as Lapu- Lapu City Charter  Day
DESCRIPTION:
URL:http://benthelasia.edu.ph/event/no-work-swapped-for-the-june-17-holiday-as-lapu-lapu-city-charter-day/
END:VEVENT
END:VCALENDAR