BEGIN:VCALENDAR
VERSION:2.0
PRODID:-//Benthel Asia School of Technology - ECPv5.1.2//NONSGML v1.0//EN
CALSCALE:GREGORIAN
METHOD:PUBLISH
X-WR-CALNAME:Benthel Asia School of Technology
X-ORIGINAL-URL:http://benthelasia.edu.ph
X-WR-CALDESC:Events for Benthel Asia School of Technology
BEGIN:VTIMEZONE
TZID:UTC
BEGIN:STANDARD
TZOFFSETFROM:+0000
TZOFFSETTO:+0000
TZNAME:UTC
DTSTART:20240101T000000
END:STANDARD
END:VTIMEZONE
BEGIN:VEVENT
DTSTART;TZID=UTC:20240520T080000
DTEND;TZID=UTC:20240520T170000
DTSTAMP:20260424T235819
CREATED:20240502T010907Z
LAST-MODIFIED:20240502T010907Z
UID:7498-1716192000-1716224400@benthelasia.edu.ph
SUMMARY:Posting of Honors for SHS
DESCRIPTION:
URL:http://benthelasia.edu.ph/event/posting-of-honors-for-shs/
END:VEVENT
END:VCALENDAR