BEGIN:VCALENDAR
VERSION:2.0
PRODID:-//Benthel Asia School of Technology - ECPv5.1.2//NONSGML v1.0//EN
CALSCALE:GREGORIAN
METHOD:PUBLISH
X-WR-CALNAME:Benthel Asia School of Technology
X-ORIGINAL-URL:http://benthelasia.edu.ph
X-WR-CALDESC:Events for Benthel Asia School of Technology
BEGIN:VTIMEZONE
TZID:UTC
BEGIN:STANDARD
TZOFFSETFROM:+0000
TZOFFSETTO:+0000
TZNAME:UTC
DTSTART:20260101T000000
END:STANDARD
END:VTIMEZONE
BEGIN:VEVENT
DTSTART;VALUE=DATE:20260312
DTEND;VALUE=DATE:20260313
DTSTAMP:20260423T173043
CREATED:20260120T020809Z
LAST-MODIFIED:20260120T021046Z
UID:8334-1773273600-1773359999@benthelasia.edu.ph
SUMMARY:Recollection Day for Grade 6 and 10 Learners
DESCRIPTION:
URL:http://benthelasia.edu.ph/event/recollection-day-for-grade-6-and-10-learners-3/
END:VEVENT
END:VCALENDAR