BEGIN:VCALENDAR
VERSION:2.0
PRODID:-//Benthel Asia School of Technology - ECPv5.1.2//NONSGML v1.0//EN
CALSCALE:GREGORIAN
METHOD:PUBLISH
X-WR-CALNAME:Benthel Asia School of Technology
X-ORIGINAL-URL:http://benthelasia.edu.ph
X-WR-CALDESC:Events for Benthel Asia School of Technology
BEGIN:VTIMEZONE
TZID:UTC
BEGIN:STANDARD
TZOFFSETFROM:+0000
TZOFFSETTO:+0000
TZNAME:UTC
DTSTART:20260101T000000
END:STANDARD
END:VTIMEZONE
BEGIN:VEVENT
DTSTART;VALUE=DATE:20260310
DTEND;VALUE=DATE:20260311
DTSTAMP:20260423T191901
CREATED:20260205T065348Z
LAST-MODIFIED:20260205T065348Z
UID:8538-1773100800-1773187199@benthelasia.edu.ph
SUMMARY:Start of Graduation and Graduation Mass Practices
DESCRIPTION:
URL:http://benthelasia.edu.ph/event/start-of-graduation-and-graduation-mass-practices-2/
END:VEVENT
END:VCALENDAR