BEGIN:VCALENDAR
VERSION:2.0
PRODID:-//Benthel Asia School of Technology - ECPv5.1.2//NONSGML v1.0//EN
CALSCALE:GREGORIAN
METHOD:PUBLISH
X-WR-CALNAME:Benthel Asia School of Technology
X-ORIGINAL-URL:http://benthelasia.edu.ph
X-WR-CALDESC:Events for Benthel Asia School of Technology
BEGIN:VTIMEZONE
TZID:UTC
BEGIN:STANDARD
TZOFFSETFROM:+0000
TZOFFSETTO:+0000
TZNAME:UTC
DTSTART:20260101T000000
END:STANDARD
END:VTIMEZONE
BEGIN:VEVENT
DTSTART;VALUE=DATE:20260309
DTEND;VALUE=DATE:20260310
DTSTAMP:20260423T173042
CREATED:20260205T065033Z
LAST-MODIFIED:20260205T065033Z
UID:8536-1773014400-1773100799@benthelasia.edu.ph
SUMMARY:Start of Graduation and Graduation Mass Practices
DESCRIPTION:
URL:http://benthelasia.edu.ph/event/start-of-graduation-and-graduation-mass-practices/
END:VEVENT
END:VCALENDAR