BEGIN:VCALENDAR
VERSION:2.0
PRODID:-//Benthel Asia School of Technology - ECPv5.1.2//NONSGML v1.0//EN
CALSCALE:GREGORIAN
METHOD:PUBLISH
X-WR-CALNAME:Benthel Asia School of Technology
X-ORIGINAL-URL:http://benthelasia.edu.ph
X-WR-CALDESC:Events for Benthel Asia School of Technology
BEGIN:VTIMEZONE
TZID:UTC
BEGIN:STANDARD
TZOFFSETFROM:+0000
TZOFFSETTO:+0000
TZNAME:UTC
DTSTART:20260101T000000
END:STANDARD
END:VTIMEZONE
BEGIN:VEVENT
DTSTART;VALUE=DATE:20260206
DTEND;VALUE=DATE:20260207
DTSTAMP:20260423T191952
CREATED:20260205T061249Z
LAST-MODIFIED:20260205T061249Z
UID:8491-1770336000-1770422399@benthelasia.edu.ph
SUMMARY:Start of the Photoshoot for the Little Mr. And Ms. and Mr. and Ms. FoundTrams 2026
DESCRIPTION:
URL:http://benthelasia.edu.ph/event/start-of-the-photoshoot-for-the-little-mr-and-ms-and-mr-and-ms-foundtrams-2026/
END:VEVENT
END:VCALENDAR