BEGIN:VCALENDAR
VERSION:2.0
PRODID:-//Benthel Asia School of Technology - ECPv5.1.2//NONSGML v1.0//EN
CALSCALE:GREGORIAN
METHOD:PUBLISH
X-WR-CALNAME:Benthel Asia School of Technology
X-ORIGINAL-URL:http://benthelasia.edu.ph
X-WR-CALDESC:Events for Benthel Asia School of Technology
BEGIN:VTIMEZONE
TZID:UTC
BEGIN:STANDARD
TZOFFSETFROM:+0000
TZOFFSETTO:+0000
TZNAME:UTC
DTSTART:20260101T000000
END:STANDARD
END:VTIMEZONE
BEGIN:VEVENT
DTSTART;VALUE=DATE:20260207
DTEND;VALUE=DATE:20260208
DTSTAMP:20260423T210212
CREATED:20260205T061542Z
LAST-MODIFIED:20260205T061542Z
UID:8498-1770422400-1770508799@benthelasia.edu.ph
SUMMARY:“The Parent’s Role in Academic Achievement” -Kindergarten and Elementary Department
DESCRIPTION:
URL:http://benthelasia.edu.ph/event/the-parents-role-in-academic-achievement-kindergarten-and-elementary-department/
END:VEVENT
END:VCALENDAR