BEGIN:VCALENDAR
VERSION:2.0
PRODID:-//Benthel Asia School of Technology - ECPv5.1.2//NONSGML v1.0//EN
CALSCALE:GREGORIAN
METHOD:PUBLISH
X-WR-CALNAME:Benthel Asia School of Technology
X-ORIGINAL-URL:http://benthelasia.edu.ph
X-WR-CALDESC:Events for Benthel Asia School of Technology
BEGIN:VTIMEZONE
TZID:UTC
BEGIN:STANDARD
TZOFFSETFROM:+0000
TZOFFSETTO:+0000
TZNAME:UTC
DTSTART:20260101T000000
END:STANDARD
END:VTIMEZONE
BEGIN:VEVENT
DTSTART;VALUE=DATE:20260124
DTEND;VALUE=DATE:20260125
DTSTAMP:20260423T212354
CREATED:20260120T010848Z
LAST-MODIFIED:20260120T010848Z
UID:8434-1769212800-1769299199@benthelasia.edu.ph
SUMMARY:“The Parent’s Role in Academic Achievement”
DESCRIPTION:
URL:http://benthelasia.edu.ph/event/the-parents-role-in-academic-achievement/
END:VEVENT
END:VCALENDAR