BEGIN:VCALENDAR
VERSION:2.0
PRODID:-//Benthel Asia School of Technology - ECPv5.1.2//NONSGML v1.0//EN
CALSCALE:GREGORIAN
METHOD:PUBLISH
X-WR-CALNAME:Benthel Asia School of Technology
X-ORIGINAL-URL:http://benthelasia.edu.ph
X-WR-CALDESC:Events for Benthel Asia School of Technology
BEGIN:VTIMEZONE
TZID:UTC
BEGIN:STANDARD
TZOFFSETFROM:+0000
TZOFFSETTO:+0000
TZNAME:UTC
DTSTART:20230101T000000
END:STANDARD
END:VTIMEZONE
BEGIN:VEVENT
DTSTART;TZID=UTC:20230328T080000
DTEND;TZID=UTC:20230328T170000
DTSTAMP:20260426T031316
CREATED:20230126T084348Z
LAST-MODIFIED:20230126T084348Z
UID:5795-1679990400-1680022800@benthelasia.edu.ph
SUMMARY:Third Quarter Deliberation of Grades (Pre-School and SHS 11)
DESCRIPTION:
URL:http://benthelasia.edu.ph/event/third-quarter-deliberation-of-grades-pre-school-and-shs-11/
END:VEVENT
END:VCALENDAR