BEGIN:VCALENDAR
VERSION:2.0
PRODID:-//Benthel Asia School of Technology - ECPv5.1.2//NONSGML v1.0//EN
CALSCALE:GREGORIAN
METHOD:PUBLISH
X-WR-CALNAME:Benthel Asia School of Technology
X-ORIGINAL-URL:http://benthelasia.edu.ph
X-WR-CALDESC:Events for Benthel Asia School of Technology
BEGIN:VTIMEZONE
TZID:UTC
BEGIN:STANDARD
TZOFFSETFROM:+0000
TZOFFSETTO:+0000
TZNAME:UTC
DTSTART:20250101T000000
END:STANDARD
END:VTIMEZONE
BEGIN:VEVENT
DTSTART;TZID=UTC:20250113T080000
DTEND;TZID=UTC:20250117T170000
DTSTAMP:20260424T161448
CREATED:20250123T072833Z
LAST-MODIFIED:20250123T072910Z
UID:7853-1736755200-1737133200@benthelasia.edu.ph
SUMMARY:Graduation Pictorial Week
DESCRIPTION:
URL:http://benthelasia.edu.ph/event/graduation-pictorial-week/
END:VEVENT
BEGIN:VEVENT
DTSTART;VALUE=DATE:20250116
DTEND;VALUE=DATE:20250117
DTSTAMP:20260424T161448
CREATED:20250123T072711Z
LAST-MODIFIED:20250123T072711Z
UID:7849-1736985600-1737071999@benthelasia.edu.ph
SUMMARY:Intra-School Quiz Bee (Senior High School)
DESCRIPTION:
URL:http://benthelasia.edu.ph/event/intra-school-quiz-bee-senior-high-school/
END:VEVENT
END:VCALENDAR