BEGIN:VCALENDAR
VERSION:2.0
PRODID:-//Benthel Asia School of Technology - ECPv5.1.2//NONSGML v1.0//EN
CALSCALE:GREGORIAN
METHOD:PUBLISH
X-WR-CALNAME:Benthel Asia School of Technology
X-ORIGINAL-URL:http://benthelasia.edu.ph
X-WR-CALDESC:Events for Benthel Asia School of Technology
BEGIN:VTIMEZONE
TZID:UTC
BEGIN:STANDARD
TZOFFSETFROM:+0000
TZOFFSETTO:+0000
TZNAME:UTC
DTSTART:20250101T000000
END:STANDARD
END:VTIMEZONE
BEGIN:VEVENT
DTSTART;VALUE=DATE:20250704
DTEND;VALUE=DATE:20250705
DTSTAMP:20260424T061639
CREATED:20250807T070116Z
LAST-MODIFIED:20250807T070122Z
UID:8169-1751587200-1751673599@benthelasia.edu.ph
SUMMARY:First Friday Mass
DESCRIPTION:Mass Sponsor:\nPre-School\nDepartment \n
URL:http://benthelasia.edu.ph/event/first-friday-mass-16/
END:VEVENT
BEGIN:VEVENT
DTSTART;VALUE=DATE:20250704
DTEND;VALUE=DATE:20250705
DTSTAMP:20260424T061639
CREATED:20250807T070141Z
LAST-MODIFIED:20250807T070141Z
UID:8172-1751587200-1751673599@benthelasia.edu.ph
SUMMARY:Launching Activity for the Nutrition Month
DESCRIPTION:
URL:http://benthelasia.edu.ph/event/launching-activity-for-the-nutrition-month/
END:VEVENT
END:VCALENDAR