BEGIN:VCALENDAR
VERSION:2.0
PRODID:-//Benthel Asia School of Technology - ECPv5.1.2//NONSGML v1.0//EN
CALSCALE:GREGORIAN
METHOD:PUBLISH
X-WR-CALNAME:Benthel Asia School of Technology
X-ORIGINAL-URL:http://benthelasia.edu.ph
X-WR-CALDESC:Events for Benthel Asia School of Technology
BEGIN:VTIMEZONE
TZID:UTC
BEGIN:STANDARD
TZOFFSETFROM:+0000
TZOFFSETTO:+0000
TZNAME:UTC
DTSTART:20250101T000000
END:STANDARD
END:VTIMEZONE
BEGIN:VEVENT
DTSTART;VALUE=DATE:20250812
DTEND;VALUE=DATE:20250815
DTSTAMP:20260424T043054
CREATED:20250807T080153Z
LAST-MODIFIED:20250807T080153Z
UID:8205-1754956800-1755215999@benthelasia.edu.ph
SUMMARY:First Periodical Test and Midterm Examination (Cordova Campus)
DESCRIPTION:
URL:http://benthelasia.edu.ph/event/first-periodical-test-and-midterm-examination-cordova-campus-2/
END:VEVENT
BEGIN:VEVENT
DTSTART;VALUE=DATE:20250813
DTEND;VALUE=DATE:20250816
DTSTAMP:20260424T043054
CREATED:20250807T080234Z
LAST-MODIFIED:20250807T080234Z
UID:8206-1755043200-1755302399@benthelasia.edu.ph
SUMMARY:First Periodical Test and Midterm Examination (Basak Campus)
DESCRIPTION:
URL:http://benthelasia.edu.ph/event/first-periodical-test-and-midterm-examination-basak-campus/
END:VEVENT
END:VCALENDAR