BEGIN:VCALENDAR
VERSION:2.0
PRODID:-//Benthel Asia School of Technology - ECPv5.1.2//NONSGML v1.0//EN
CALSCALE:GREGORIAN
METHOD:PUBLISH
X-WR-CALNAME:Benthel Asia School of Technology
X-ORIGINAL-URL:http://benthelasia.edu.ph
X-WR-CALDESC:Events for Benthel Asia School of Technology
BEGIN:VTIMEZONE
TZID:UTC
BEGIN:STANDARD
TZOFFSETFROM:+0000
TZOFFSETTO:+0000
TZNAME:UTC
DTSTART:20250101T000000
END:STANDARD
END:VTIMEZONE
BEGIN:VEVENT
DTSTART;VALUE=DATE:20250820
DTEND;VALUE=DATE:20250821
DTSTAMP:20260424T043639
CREATED:20250807T082900Z
LAST-MODIFIED:20250807T082900Z
UID:8213-1755648000-1755734399@benthelasia.edu.ph
SUMMARY:First Quarter Deliberation of  Grades (Pre- School\, Elem.\,  JHS\, and
DESCRIPTION:
URL:http://benthelasia.edu.ph/event/first-quarter-deliberation-of-grades-pre-school-elem-jhs-and/
END:VEVENT
END:VCALENDAR