BEGIN:VCALENDAR
VERSION:2.0
PRODID:-//Benthel Asia School of Technology - ECPv5.1.2//NONSGML v1.0//EN
CALSCALE:GREGORIAN
METHOD:PUBLISH
X-WR-CALNAME:Benthel Asia School of Technology
X-ORIGINAL-URL:http://benthelasia.edu.ph
X-WR-CALDESC:Events for Benthel Asia School of Technology
BEGIN:VTIMEZONE
TZID:UTC
BEGIN:STANDARD
TZOFFSETFROM:+0000
TZOFFSETTO:+0000
TZNAME:UTC
DTSTART:20250101T000000
END:STANDARD
END:VTIMEZONE
BEGIN:VEVENT
DTSTART;VALUE=DATE:20250901
DTEND;VALUE=DATE:20250902
DTSTAMP:20260424T025630
CREATED:20250808T065326Z
LAST-MODIFIED:20250808T065326Z
UID:8228-1756684800-1756771199@benthelasia.edu.ph
SUMMARY:Launching Activity of the Math and Science Month
DESCRIPTION:
URL:http://benthelasia.edu.ph/event/launching-activity-of-the-math-and-science-month/
END:VEVENT
END:VCALENDAR