BEGIN:VCALENDAR
VERSION:2.0
PRODID:-//Benthel Asia School of Technology - ECPv5.1.2//NONSGML v1.0//EN
CALSCALE:GREGORIAN
METHOD:PUBLISH
X-WR-CALNAME:Benthel Asia School of Technology
X-ORIGINAL-URL:http://benthelasia.edu.ph
X-WR-CALDESC:Events for Benthel Asia School of Technology
BEGIN:VTIMEZONE
TZID:UTC
BEGIN:STANDARD
TZOFFSETFROM:+0000
TZOFFSETTO:+0000
TZNAME:UTC
DTSTART:20250101T000000
END:STANDARD
END:VTIMEZONE
BEGIN:VEVENT
DTSTART;VALUE=DATE:20250909
DTEND;VALUE=DATE:20250910
DTSTAMP:20260424T025757
CREATED:20250808T065529Z
LAST-MODIFIED:20250808T065550Z
UID:8234-1757376000-1757462399@benthelasia.edu.ph
SUMMARY:Osmeña Day
DESCRIPTION:
URL:http://benthelasia.edu.ph/event/mama-marys-birthday-and-thanksgiving-mass/
END:VEVENT
END:VCALENDAR