BEGIN:VCALENDAR
VERSION:2.0
PRODID:-//Benthel Asia School of Technology - ECPv5.1.2//NONSGML v1.0//EN
CALSCALE:GREGORIAN
METHOD:PUBLISH
X-WR-CALNAME:Benthel Asia School of Technology
X-ORIGINAL-URL:http://benthelasia.edu.ph
X-WR-CALDESC:Events for Benthel Asia School of Technology
BEGIN:VTIMEZONE
TZID:UTC
BEGIN:STANDARD
TZOFFSETFROM:+0000
TZOFFSETTO:+0000
TZNAME:UTC
DTSTART:20250101T000000
END:STANDARD
END:VTIMEZONE
BEGIN:VEVENT
DTSTART;VALUE=DATE:20251020
DTEND;VALUE=DATE:20251023
DTSTAMP:20260424T012535
CREATED:20250808T070555Z
LAST-MODIFIED:20250808T070555Z
UID:8253-1760918400-1761177599@benthelasia.edu.ph
SUMMARY:Second Periodical Test and Final Exam
DESCRIPTION:
URL:http://benthelasia.edu.ph/event/second-periodical-test-and-final-exam/
END:VEVENT
END:VCALENDAR