BEGIN:VCALENDAR
VERSION:2.0
PRODID:-//Benthel Asia School of Technology - ECPv5.1.2//NONSGML v1.0//EN
CALSCALE:GREGORIAN
METHOD:PUBLISH
X-WR-CALNAME:Benthel Asia School of Technology
X-ORIGINAL-URL:http://benthelasia.edu.ph
X-WR-CALDESC:Events for Benthel Asia School of Technology
BEGIN:VTIMEZONE
TZID:UTC
BEGIN:STANDARD
TZOFFSETFROM:+0000
TZOFFSETTO:+0000
TZNAME:UTC
DTSTART:20250101T000000
END:STANDARD
END:VTIMEZONE
BEGIN:VEVENT
DTSTART;VALUE=DATE:20251218
DTEND;VALUE=DATE:20251219
DTSTAMP:20260423T222852
CREATED:20250808T072042Z
LAST-MODIFIED:20250808T072104Z
UID:8290-1766016000-1766102399@benthelasia.edu.ph
SUMMARY:Students’ Christmas Party
DESCRIPTION:
URL:http://benthelasia.edu.ph/event/students-christmas-party-2/
END:VEVENT
BEGIN:VEVENT
DTSTART;VALUE=DATE:20251218
DTEND;VALUE=DATE:20251219
DTSTAMP:20260423T222852
CREATED:20250808T072321Z
LAST-MODIFIED:20250808T072321Z
UID:8292-1766016000-1766102399@benthelasia.edu.ph
SUMMARY:Thanksgiving Mass
DESCRIPTION:Mass Sponsor: All\nDepartments \n
URL:http://benthelasia.edu.ph/event/thanksgiving-mass-6/
END:VEVENT
END:VCALENDAR