BEGIN:VCALENDAR
VERSION:2.0
PRODID:-//Benthel Asia School of Technology - ECPv5.1.2//NONSGML v1.0//EN
CALSCALE:GREGORIAN
METHOD:PUBLISH
X-WR-CALNAME:Benthel Asia School of Technology
X-ORIGINAL-URL:http://benthelasia.edu.ph
X-WR-CALDESC:Events for Benthel Asia School of Technology
BEGIN:VTIMEZONE
TZID:UTC
BEGIN:STANDARD
TZOFFSETFROM:+0000
TZOFFSETTO:+0000
TZNAME:UTC
DTSTART:20250101T000000
END:STANDARD
END:VTIMEZONE
BEGIN:VEVENT
DTSTART;VALUE=DATE:20251219
DTEND;VALUE=DATE:20251220
DTSTAMP:20260423T222815
CREATED:20250808T072408Z
LAST-MODIFIED:20250808T072408Z
UID:8293-1766102400-1766188799@benthelasia.edu.ph
SUMMARY:Employees’ Christmas Party
DESCRIPTION:
URL:http://benthelasia.edu.ph/event/employees-christmas-party-2/
END:VEVENT
BEGIN:VEVENT
DTSTART;VALUE=DATE:20251219
DTEND;VALUE=DATE:20260103
DTSTAMP:20260423T222815
CREATED:20250808T072435Z
LAST-MODIFIED:20250812T030150Z
UID:8295-1766102400-1767398399@benthelasia.edu.ph
SUMMARY:Christmas Break
DESCRIPTION:
URL:http://benthelasia.edu.ph/event/christmas-break-3/
END:VEVENT
END:VCALENDAR