BEGIN:VCALENDAR
VERSION:2.0
PRODID:-//Benthel Asia School of Technology - ECPv5.1.2//NONSGML v1.0//EN
CALSCALE:GREGORIAN
METHOD:PUBLISH
X-WR-CALNAME:Benthel Asia School of Technology
X-ORIGINAL-URL:http://benthelasia.edu.ph
X-WR-CALDESC:Events for Benthel Asia School of Technology
BEGIN:VTIMEZONE
TZID:UTC
BEGIN:STANDARD
TZOFFSETFROM:+0000
TZOFFSETTO:+0000
TZNAME:UTC
DTSTART:20260101T000000
END:STANDARD
END:VTIMEZONE
BEGIN:VEVENT
DTSTART;VALUE=DATE:20260105
DTEND;VALUE=DATE:20260106
DTSTAMP:20260423T210653
CREATED:20250811T071336Z
LAST-MODIFIED:20250811T071336Z
UID:8315-1767571200-1767657599@benthelasia.edu.ph
SUMMARY:Resumption of Classes
DESCRIPTION:
URL:http://benthelasia.edu.ph/event/resumption-of-classes-3/
END:VEVENT
BEGIN:VEVENT
DTSTART;VALUE=DATE:20260105
DTEND;VALUE=DATE:20260106
DTSTAMP:20260423T210653
CREATED:20260109T082816Z
LAST-MODIFIED:20260109T082816Z
UID:8400-1767571200-1767657599@benthelasia.edu.ph
SUMMARY:Haircut and Nail cut Inspection (POD)
DESCRIPTION:
URL:http://benthelasia.edu.ph/event/haircut-and-nail-cut-inspection-pod/
END:VEVENT
BEGIN:VEVENT
DTSTART;VALUE=DATE:20260105
DTEND;VALUE=DATE:20260110
DTSTAMP:20260423T210653
CREATED:20260120T005440Z
LAST-MODIFIED:20260120T005540Z
UID:8423-1767571200-1768003199@benthelasia.edu.ph
SUMMARY:Sinulog sa BAST Practices
DESCRIPTION:
URL:http://benthelasia.edu.ph/event/sinulog-sa-bast-practices/
END:VEVENT
END:VCALENDAR