BEGIN:VCALENDAR
VERSION:2.0
PRODID:-//Benthel Asia School of Technology - ECPv5.1.2//NONSGML v1.0//EN
CALSCALE:GREGORIAN
METHOD:PUBLISH
X-WR-CALNAME:Benthel Asia School of Technology
X-ORIGINAL-URL:http://benthelasia.edu.ph
X-WR-CALDESC:Events for Benthel Asia School of Technology
BEGIN:VTIMEZONE
TZID:UTC
BEGIN:STANDARD
TZOFFSETFROM:+0000
TZOFFSETTO:+0000
TZNAME:UTC
DTSTART:20260101T000000
END:STANDARD
END:VTIMEZONE
BEGIN:VEVENT
DTSTART;VALUE=DATE:20260105
DTEND;VALUE=DATE:20260110
DTSTAMP:20260423T205847
CREATED:20260120T005440Z
LAST-MODIFIED:20260120T005540Z
UID:8423-1767571200-1768003199@benthelasia.edu.ph
SUMMARY:Sinulog sa BAST Practices
DESCRIPTION:
URL:http://benthelasia.edu.ph/event/sinulog-sa-bast-practices/
END:VEVENT
BEGIN:VEVENT
DTSTART;VALUE=DATE:20260107
DTEND;VALUE=DATE:20260109
DTSTAMP:20260423T205847
CREATED:20260109T083315Z
LAST-MODIFIED:20260109T083509Z
UID:8403-1767744000-1767916799@benthelasia.edu.ph
SUMMARY:Third Quarter Deliberation of Grades
DESCRIPTION:
URL:http://benthelasia.edu.ph/event/third-quarter-deliberation-of-grades-4/
END:VEVENT
BEGIN:VEVENT
DTSTART;VALUE=DATE:20260107
DTEND;VALUE=DATE:20260108
DTSTAMP:20260423T205847
CREATED:20260109T083739Z
LAST-MODIFIED:20260109T083739Z
UID:8406-1767744000-1767830399@benthelasia.edu.ph
SUMMARY: JHS and SHS Cordova (Afternoon)
DESCRIPTION:
URL:http://benthelasia.edu.ph/event/%ef%82%b7-jhs-and-shs-cordova-afternoon/
END:VEVENT
END:VCALENDAR