BEGIN:VCALENDAR
VERSION:2.0
PRODID:-//Benthel Asia School of Technology - ECPv5.1.2//NONSGML v1.0//EN
CALSCALE:GREGORIAN
METHOD:PUBLISH
X-WR-CALNAME:Benthel Asia School of Technology
X-ORIGINAL-URL:http://benthelasia.edu.ph
X-WR-CALDESC:Events for Benthel Asia School of Technology
BEGIN:VTIMEZONE
TZID:UTC
BEGIN:STANDARD
TZOFFSETFROM:+0000
TZOFFSETTO:+0000
TZNAME:UTC
DTSTART:20260101T000000
END:STANDARD
END:VTIMEZONE
BEGIN:VEVENT
DTSTART;VALUE=DATE:20260105
DTEND;VALUE=DATE:20260110
DTSTAMP:20260423T211028
CREATED:20260120T005440Z
LAST-MODIFIED:20260120T005540Z
UID:8423-1767571200-1768003199@benthelasia.edu.ph
SUMMARY:Sinulog sa BAST Practices
DESCRIPTION:
URL:http://benthelasia.edu.ph/event/sinulog-sa-bast-practices/
END:VEVENT
BEGIN:VEVENT
DTSTART;VALUE=DATE:20260108
DTEND;VALUE=DATE:20260111
DTSTAMP:20260423T211028
CREATED:20260109T084917Z
LAST-MODIFIED:20260109T085522Z
UID:8420-1767830400-1768089599@benthelasia.edu.ph
SUMMARY:City Palaro
DESCRIPTION:
URL:http://benthelasia.edu.ph/event/city-palaro/
END:VEVENT
BEGIN:VEVENT
DTSTART;VALUE=DATE:20260109
DTEND;VALUE=DATE:20260110
DTSTAMP:20260423T211028
CREATED:20260109T084240Z
LAST-MODIFIED:20260109T084240Z
UID:8411-1767916800-1768003199@benthelasia.edu.ph
SUMMARY:Thanksgiving Mass
DESCRIPTION:
URL:http://benthelasia.edu.ph/event/thanksgiving-mass-9/
END:VEVENT
BEGIN:VEVENT
DTSTART;VALUE=DATE:20260109
DTEND;VALUE=DATE:20260110
DTSTAMP:20260423T211028
CREATED:20260109T084456Z
LAST-MODIFIED:20260109T084456Z
UID:8414-1767916800-1768003199@benthelasia.edu.ph
SUMMARY:Mass Sponsor: Senior High School Department
DESCRIPTION:
URL:http://benthelasia.edu.ph/event/mass-sponsor-senior-high-school-department/
END:VEVENT
BEGIN:VEVENT
DTSTART;VALUE=DATE:20260109
DTEND;VALUE=DATE:20260110
DTSTAMP:20260423T211028
CREATED:20260109T084603Z
LAST-MODIFIED:20260109T084603Z
UID:8416-1767916800-1768003199@benthelasia.edu.ph
SUMMARY:Third Quarter Deliberation of Grades
DESCRIPTION:
URL:http://benthelasia.edu.ph/event/third-quarter-deliberation-of-grades-3/
END:VEVENT
BEGIN:VEVENT
DTSTART;VALUE=DATE:20260109
DTEND;VALUE=DATE:20260110
DTSTAMP:20260423T211029
CREATED:20260109T084746Z
LAST-MODIFIED:20260109T084746Z
UID:8418-1767916800-1768003199@benthelasia.edu.ph
SUMMARY:Kindergarten Elementary SHS (Morning and Afternoon)
DESCRIPTION:
URL:http://benthelasia.edu.ph/event/kindergarten-elementary-shs-morning-and-afternoon/
END:VEVENT
END:VCALENDAR