BEGIN:VCALENDAR
VERSION:2.0
PRODID:-//Benthel Asia School of Technology - ECPv5.1.2//NONSGML v1.0//EN
CALSCALE:GREGORIAN
METHOD:PUBLISH
X-WR-CALNAME:Benthel Asia School of Technology
X-ORIGINAL-URL:http://benthelasia.edu.ph
X-WR-CALDESC:Events for Benthel Asia School of Technology
BEGIN:VTIMEZONE
TZID:UTC
BEGIN:STANDARD
TZOFFSETFROM:+0000
TZOFFSETTO:+0000
TZNAME:UTC
DTSTART:20260101T000000
END:STANDARD
END:VTIMEZONE
BEGIN:VEVENT
DTSTART;VALUE=DATE:20260112
DTEND;VALUE=DATE:20260117
DTSTAMP:20260423T205848
CREATED:20260120T005718Z
LAST-MODIFIED:20260120T005718Z
UID:8425-1768176000-1768607999@benthelasia.edu.ph
SUMMARY:Sinulog sa BAST Practices
DESCRIPTION:
URL:http://benthelasia.edu.ph/event/sinulog-sa-bast-practices-2/
END:VEVENT
END:VCALENDAR