BEGIN:VCALENDAR
VERSION:2.0
PRODID:-//Benthel Asia School of Technology - ECPv5.1.2//NONSGML v1.0//EN
CALSCALE:GREGORIAN
METHOD:PUBLISH
X-WR-CALNAME:Benthel Asia School of Technology
X-ORIGINAL-URL:http://benthelasia.edu.ph
X-WR-CALDESC:Events for Benthel Asia School of Technology
BEGIN:VTIMEZONE
TZID:UTC
BEGIN:STANDARD
TZOFFSETFROM:+0000
TZOFFSETTO:+0000
TZNAME:UTC
DTSTART:20260101T000000
END:STANDARD
END:VTIMEZONE
BEGIN:VEVENT
DTSTART;VALUE=DATE:20260118
DTEND;VALUE=DATE:20260119
DTSTAMP:20260423T210857
CREATED:20250811T080030Z
LAST-MODIFIED:20250811T080031Z
UID:8319-1768694400-1768780799@benthelasia.edu.ph
SUMMARY:Fiesta Señor Santo Niño
DESCRIPTION:
URL:http://benthelasia.edu.ph/event/fiesta-senor-santo-nino/
END:VEVENT
END:VCALENDAR