BEGIN:VCALENDAR
VERSION:2.0
PRODID:-//Benthel Asia School of Technology - ECPv5.1.2//NONSGML v1.0//EN
CALSCALE:GREGORIAN
METHOD:PUBLISH
X-WR-CALNAME:Benthel Asia School of Technology
X-ORIGINAL-URL:http://benthelasia.edu.ph
X-WR-CALDESC:Events for Benthel Asia School of Technology
BEGIN:VTIMEZONE
TZID:UTC
BEGIN:STANDARD
TZOFFSETFROM:+0000
TZOFFSETTO:+0000
TZNAME:UTC
DTSTART:20260101T000000
END:STANDARD
END:VTIMEZONE
BEGIN:VEVENT
DTSTART;VALUE=DATE:20260124
DTEND;VALUE=DATE:20260125
DTSTAMP:20260423T210700
CREATED:20260120T010848Z
LAST-MODIFIED:20260120T010848Z
UID:8434-1769212800-1769299199@benthelasia.edu.ph
SUMMARY:“The Parent’s Role in Academic Achievement”
DESCRIPTION:
URL:http://benthelasia.edu.ph/event/the-parents-role-in-academic-achievement/
END:VEVENT
BEGIN:VEVENT
DTSTART;VALUE=DATE:20260124
DTEND;VALUE=DATE:20260125
DTSTAMP:20260423T210700
CREATED:20260120T011011Z
LAST-MODIFIED:20260120T011011Z
UID:8436-1769212800-1769299199@benthelasia.edu.ph
SUMMARY:Kindergarten and Elementary Department
DESCRIPTION:
URL:http://benthelasia.edu.ph/event/kindergarten-and-elementary-department/
END:VEVENT
BEGIN:VEVENT
DTSTART;TZID=UTC:20260124T090000
DTEND;TZID=UTC:20260124T120000
DTSTAMP:20260423T210700
CREATED:20260120T010701Z
LAST-MODIFIED:20260120T010701Z
UID:8432-1769245200-1769256000@benthelasia.edu.ph
SUMMARY:3rd Quarter Parent Enrichment via Zoom
DESCRIPTION:
URL:http://benthelasia.edu.ph/event/3rd-quarter-parent-enrichment-via-zoom/
END:VEVENT
END:VCALENDAR