BEGIN:VCALENDAR
VERSION:2.0
PRODID:-//Benthel Asia School of Technology - ECPv5.1.2//NONSGML v1.0//EN
CALSCALE:GREGORIAN
METHOD:PUBLISH
X-WR-CALNAME:Benthel Asia School of Technology
X-ORIGINAL-URL:http://benthelasia.edu.ph
X-WR-CALDESC:Events for Benthel Asia School of Technology
BEGIN:VTIMEZONE
TZID:UTC
BEGIN:STANDARD
TZOFFSETFROM:+0000
TZOFFSETTO:+0000
TZNAME:UTC
DTSTART:20260101T000000
END:STANDARD
END:VTIMEZONE
BEGIN:VEVENT
DTSTART;VALUE=DATE:20260130
DTEND;VALUE=DATE:20260131
DTSTAMP:20260423T222628
CREATED:20250811T081018Z
LAST-MODIFIED:20250811T081018Z
UID:8325-1769731200-1769817599@benthelasia.edu.ph
SUMMARY:Third Quarter Report Card Distribution
DESCRIPTION:
URL:http://benthelasia.edu.ph/event/third-quarter-report-card-distribution-3/
END:VEVENT
BEGIN:VEVENT
DTSTART;VALUE=DATE:20260130
DTEND;VALUE=DATE:20260131
DTSTAMP:20260423T222628
CREATED:20260120T011335Z
LAST-MODIFIED:20260120T011335Z
UID:8442-1769731200-1769817599@benthelasia.edu.ph
SUMMARY:Thanksgiving Mass
DESCRIPTION:
URL:http://benthelasia.edu.ph/event/thanksgiving-mass-10/
END:VEVENT
BEGIN:VEVENT
DTSTART;VALUE=DATE:20260130
DTEND;VALUE=DATE:20260131
DTSTAMP:20260423T222628
CREATED:20260120T011503Z
LAST-MODIFIED:20260120T011503Z
UID:8444-1769731200-1769817599@benthelasia.edu.ph
SUMMARY:Mass Sponsor:
DESCRIPTION:
URL:http://benthelasia.edu.ph/event/mass-sponsor/
END:VEVENT
BEGIN:VEVENT
DTSTART;VALUE=DATE:20260130
DTEND;VALUE=DATE:20260131
DTSTAMP:20260423T222628
CREATED:20260120T011555Z
LAST-MODIFIED:20260120T011555Z
UID:8446-1769731200-1769817599@benthelasia.edu.ph
SUMMARY:Sinulog sa BAST Festival
DESCRIPTION:
URL:http://benthelasia.edu.ph/event/sinulog-sa-bast-festival/
END:VEVENT
END:VCALENDAR