BEGIN:VCALENDAR
VERSION:2.0
PRODID:-//Benthel Asia School of Technology - ECPv5.1.2//NONSGML v1.0//EN
CALSCALE:GREGORIAN
METHOD:PUBLISH
X-WR-CALNAME:Benthel Asia School of Technology
X-ORIGINAL-URL:http://benthelasia.edu.ph
X-WR-CALDESC:Events for Benthel Asia School of Technology
BEGIN:VTIMEZONE
TZID:UTC
BEGIN:STANDARD
TZOFFSETFROM:+0000
TZOFFSETTO:+0000
TZNAME:UTC
DTSTART:20260101T000000
END:STANDARD
END:VTIMEZONE
BEGIN:VEVENT
DTSTART;VALUE=DATE:20260217
DTEND;VALUE=DATE:20260218
DTSTAMP:20260423T191559
CREATED:20250811T081124Z
LAST-MODIFIED:20250811T081124Z
UID:8327-1771286400-1771372799@benthelasia.edu.ph
SUMMARY:Chinese New Year
DESCRIPTION:
URL:http://benthelasia.edu.ph/event/chinese-new-year-3/
END:VEVENT
BEGIN:VEVENT
DTSTART;VALUE=DATE:20260217
DTEND;VALUE=DATE:20260221
DTSTAMP:20260423T191559
CREATED:20260120T012139Z
LAST-MODIFIED:20260120T012139Z
UID:8454-1771286400-1771631999@benthelasia.edu.ph
SUMMARY:FoundTrams Practices
DESCRIPTION:
URL:http://benthelasia.edu.ph/event/foundtrams-practices-3/
END:VEVENT
BEGIN:VEVENT
DTSTART;VALUE=DATE:20260217
DTEND;VALUE=DATE:20260218
DTSTAMP:20260423T191559
CREATED:20260205T062107Z
LAST-MODIFIED:20260205T062107Z
UID:8508-1771286400-1771372799@benthelasia.edu.ph
SUMMARY:Peoples’ Choice Award for the Little Mr. And Ms. and Mr. and Ms. FoundTrams 2026 (counting of votes)
DESCRIPTION:
URL:http://benthelasia.edu.ph/event/peoples-choice-award-for-the-little-mr-and-ms-and-mr-and-ms-foundtrams-2026-counting-of-votes/
END:VEVENT
BEGIN:VEVENT
DTSTART;VALUE=DATE:20260217
DTEND;VALUE=DATE:20260218
DTSTAMP:20260423T191559
CREATED:20260205T062146Z
LAST-MODIFIED:20260205T062146Z
UID:8510-1771286400-1771372799@benthelasia.edu.ph
SUMMARY:Deadline of payment for the JS Prom
DESCRIPTION:
URL:http://benthelasia.edu.ph/event/deadline-of-payment-for-the-js-prom/
END:VEVENT
END:VCALENDAR