BEGIN:VCALENDAR
VERSION:2.0
PRODID:-//Benthel Asia School of Technology - ECPv5.1.2//NONSGML v1.0//EN
CALSCALE:GREGORIAN
METHOD:PUBLISH
X-WR-CALNAME:Benthel Asia School of Technology
X-ORIGINAL-URL:http://benthelasia.edu.ph
X-WR-CALDESC:Events for Benthel Asia School of Technology
BEGIN:VTIMEZONE
TZID:UTC
BEGIN:STANDARD
TZOFFSETFROM:+0000
TZOFFSETTO:+0000
TZNAME:UTC
DTSTART:20260101T000000
END:STANDARD
END:VTIMEZONE
BEGIN:VEVENT
DTSTART;VALUE=DATE:20260313
DTEND;VALUE=DATE:20260314
DTSTAMP:20260423T171858
CREATED:20250811T081908Z
LAST-MODIFIED:20250811T081908Z
UID:8343-1773360000-1773446399@benthelasia.edu.ph
SUMMARY:Recollection Day for Grade 12 Learners
DESCRIPTION:
URL:http://benthelasia.edu.ph/event/recollection-day-for-grade-12-learners-2/
END:VEVENT
BEGIN:VEVENT
DTSTART;VALUE=DATE:20260313
DTEND;VALUE=DATE:20260314
DTSTAMP:20260423T171858
CREATED:20250811T081923Z
LAST-MODIFIED:20250811T081923Z
UID:8346-1773360000-1773446399@benthelasia.edu.ph
SUMMARY:JS Prom
DESCRIPTION:
URL:http://benthelasia.edu.ph/event/js-prom/
END:VEVENT
END:VCALENDAR