BEGIN:VCALENDAR
VERSION:2.0
PRODID:-//Benthel Asia School of Technology - ECPv5.1.2//NONSGML v1.0//EN
CALSCALE:GREGORIAN
METHOD:PUBLISH
X-WR-CALNAME:Benthel Asia School of Technology
X-ORIGINAL-URL:http://benthelasia.edu.ph
X-WR-CALDESC:Events for Benthel Asia School of Technology
BEGIN:VTIMEZONE
TZID:UTC
BEGIN:STANDARD
TZOFFSETFROM:+0000
TZOFFSETTO:+0000
TZNAME:UTC
DTSTART:20260101T000000
END:STANDARD
END:VTIMEZONE
BEGIN:VEVENT
DTSTART;VALUE=DATE:20260331
DTEND;VALUE=DATE:20260401
DTSTAMP:20260423T153955
CREATED:20260205T065749Z
LAST-MODIFIED:20260205T065749Z
UID:8542-1774915200-1775001599@benthelasia.edu.ph
SUMMARY:20th Completion and Graduation Ceremonies
DESCRIPTION:
URL:http://benthelasia.edu.ph/event/20th-completion-and-graduation-ceremonies-2/
END:VEVENT
END:VCALENDAR